Package: nnNorm Version: 2.66.0 Command: rm -rf nnNorm.buildbin-libdir && mkdir nnNorm.buildbin-libdir && F:\biocbuild\bbs-3.18-bioc\R\bin\R.exe CMD INSTALL --build --library=nnNorm.buildbin-libdir nnNorm_2.66.0.tar.gz StartedAt: 2024-04-16 07:22:26 -0400 (Tue, 16 Apr 2024) EndedAt: 2024-04-16 07:22:31 -0400 (Tue, 16 Apr 2024) EllapsedTime: 5.0 seconds RetCode: 0 Status: OK PackageFile: nnNorm_2.66.0.zip PackageFileSize: 101.7 KiB