Package: nnNorm Version: 2.66.0 Command: /home/biocbuild/bbs-3.18-bioc/R/bin/R CMD build --keep-empty-dirs --no-resave-data nnNorm StartedAt: 2024-04-15 18:12:44 -0400 (Mon, 15 Apr 2024) EndedAt: 2024-04-15 18:13:20 -0400 (Mon, 15 Apr 2024) EllapsedTime: 36.0 seconds RetCode: 0 Status: OK PackageFile: nnNorm_2.66.0.tar.gz PackageFileSize: 1.494 MiB