Package: ngsReports Version: 2.4.0 Command: F:\biocbuild\bbs-3.18-bioc\R\bin\R.exe CMD check --no-multiarch --install=check:ngsReports.install-out.txt --library=F:\biocbuild\bbs-3.18-bioc\R\library --no-vignettes --timings ngsReports_2.4.0.tar.gz StartedAt: 2024-04-16 03:17:13 -0400 (Tue, 16 Apr 2024) EndedAt: 2024-04-16 03:20:55 -0400 (Tue, 16 Apr 2024) EllapsedTime: 222.1 seconds RetCode: 0 Status: OK CheckDir: ngsReports.Rcheck Warnings: 0