Package: ngsReports Version: 2.4.0 Command: /home/biocbuild/bbs-3.18-bioc/R/bin/R CMD build --keep-empty-dirs --no-resave-data ngsReports StartedAt: 2024-04-15 18:12:39 -0400 (Mon, 15 Apr 2024) EndedAt: 2024-04-15 18:13:42 -0400 (Mon, 15 Apr 2024) EllapsedTime: 63.0 seconds RetCode: 0 Status: OK PackageFile: ngsReports_2.4.0.tar.gz PackageFileSize: 2.834 MiB