Package: ngsReports Version: 2.4.0 Command: /Library/Frameworks/R.framework/Resources/bin/R CMD build --keep-empty-dirs --no-resave-data ngsReports StartedAt: 2024-04-15 20:28:48 -0400 (Mon, 15 Apr 2024) EndedAt: 2024-04-15 20:31:42 -0400 (Mon, 15 Apr 2024) EllapsedTime: 174.0 seconds RetCode: 0 Status: OK PackageFile: ngsReports_2.4.0.tar.gz PackageFileSize: 3.194 MiB