Package: ngsReports Version: 2.4.0 Command: rm -rf ngsReports.buildbin-libdir && mkdir ngsReports.buildbin-libdir && /Users/biocbuild/BBS/utils/build-universal.sh ngsReports_2.4.0.tar.gz /Library/Frameworks/R.framework/Resources/bin/R ngsReports.buildbin-libdir StartedAt: 2024-04-16 12:20:03 -0400 (Tue, 16 Apr 2024) EndedAt: 2024-04-16 12:20:51 -0400 (Tue, 16 Apr 2024) EllapsedTime: 47.7 seconds RetCode: 0 Status: OK PackageFile: ngsReports_2.4.0.tgz PackageFileSize: 3.65 MiB