Package: ngsReports Version: 2.4.0 Command: /Library/Frameworks/R.framework/Resources/bin/R CMD INSTALL ngsReports StartedAt: 2024-03-03 15:26:32 -0500 (Sun, 03 Mar 2024) EndedAt: 2024-03-03 15:27:01 -0500 (Sun, 03 Mar 2024) EllapsedTime: 29.0 seconds RetCode: 0 Status: OK