Package: ngsReports Version: 2.4.0 Command: /home/biocbuild/R/R-4.3.1/bin/R CMD build --keep-empty-dirs --no-resave-data ngsReports StartedAt: 2023-11-02 04:04:46 -0000 (Thu, 02 Nov 2023) EndedAt: 2023-11-02 04:05:55 -0000 (Thu, 02 Nov 2023) EllapsedTime: 69.1 seconds RetCode: 0 Status: OK PackageFile: ngsReports_2.4.0.tar.gz PackageFileSize: 2.963 MiB