Package: netresponse Version: 1.62.0 Command: /Library/Frameworks/R.framework/Resources/bin/R CMD check --install=check:netresponse.install-out.txt --library=/Library/Frameworks/R.framework/Resources/library --no-vignettes --timings netresponse_1.62.0.tar.gz StartedAt: 2024-03-03 22:10:52 -0500 (Sun, 03 Mar 2024) EndedAt: 2024-03-03 22:12:29 -0500 (Sun, 03 Mar 2024) EllapsedTime: 97.3 seconds RetCode: 0 Status: OK CheckDir: netresponse.Rcheck Warnings: 0