Package: netprioR Version: 1.28.0 Command: /home/biocbuild/bbs-3.18-bioc/R/bin/R CMD check --install=check:netprioR.install-out.txt --library=/home/biocbuild/bbs-3.18-bioc/R/site-library --timings netprioR_1.28.0.tar.gz StartedAt: 2024-04-16 01:31:11 -0400 (Tue, 16 Apr 2024) EndedAt: 2024-04-16 01:32:46 -0400 (Tue, 16 Apr 2024) EllapsedTime: 95.0 seconds RetCode: 1 Status: ERROR CheckDir: netprioR.Rcheck Warnings: NA