Package: netprioR Version: 1.28.0 Command: /home/biocbuild/bbs-3.18-bioc/R/bin/R CMD build --keep-empty-dirs --no-resave-data netprioR StartedAt: 2024-04-15 18:12:09 -0400 (Mon, 15 Apr 2024) EndedAt: 2024-04-15 18:12:43 -0400 (Mon, 15 Apr 2024) EllapsedTime: 34.5 seconds RetCode: 0 Status: OK PackageFile: netprioR_1.28.0.tar.gz PackageFileSize: 509.2 KiB