Package: netprioR Version: 1.28.0 Command: /Library/Frameworks/R.framework/Resources/bin/R CMD INSTALL netprioR StartedAt: 2024-03-03 15:08:58 -0500 (Sun, 03 Mar 2024) EndedAt: 2024-03-03 15:09:20 -0500 (Sun, 03 Mar 2024) EllapsedTime: 22.2 seconds RetCode: 0 Status: OK