Package: netboost Version: 2.10.0 Command: rm -rf netboost.buildbin-libdir && mkdir netboost.buildbin-libdir && /Users/biocbuild/BBS/utils/build-universal.sh netboost_2.10.0.tar.gz /Library/Frameworks/R.framework/Resources/bin/R netboost.buildbin-libdir StartedAt: 2024-03-04 00:53:34 -0500 (Mon, 04 Mar 2024) EndedAt: 2024-03-04 00:55:10 -0500 (Mon, 04 Mar 2024) EllapsedTime: 95.8 seconds RetCode: 0 Status: OK PackageFile: netboost_2.10.0.tgz PackageFileSize: 1.083 MiB