Package: netboost Version: 2.10.0 Command: /home/biocbuild/R/R-4.3.1/bin/R CMD INSTALL netboost StartedAt: 2023-11-01 20:43:32 -0000 (Wed, 01 Nov 2023) EndedAt: 2023-11-01 20:44:50 -0000 (Wed, 01 Nov 2023) EllapsedTime: 77.9 seconds RetCode: 0 Status: OK