Package: netboost Version: 2.10.0 Command: /home/biocbuild/R/R-4.3.1/bin/R CMD check --install=check:netboost.install-out.txt --library=/home/biocbuild/R/R-4.3.1/site-library --no-vignettes --timings netboost_2.10.0.tar.gz StartedAt: 2023-11-02 12:39:04 -0000 (Thu, 02 Nov 2023) EndedAt: 2023-11-02 12:43:46 -0000 (Thu, 02 Nov 2023) EllapsedTime: 282.2 seconds RetCode: 0 Status: OK CheckDir: netboost.Rcheck Warnings: 0