Package: netboost Version: 2.10.0 Command: /home/biocbuild/R/R-4.3.1/bin/R CMD build --keep-empty-dirs --no-resave-data netboost StartedAt: 2023-11-02 04:00:44 -0000 (Thu, 02 Nov 2023) EndedAt: 2023-11-02 04:02:15 -0000 (Thu, 02 Nov 2023) EllapsedTime: 91.1 seconds RetCode: 0 Status: OK PackageFile: netboost_2.10.0.tar.gz PackageFileSize: 1.112 MiB