Package: netbiov Version: 1.36.0 Command: chmod a+r netbiov -R && F:\biocbuild\bbs-3.18-bioc\R\bin\R.exe CMD build --keep-empty-dirs --no-resave-data netbiov StartedAt: 2024-04-15 19:52:57 -0400 (Mon, 15 Apr 2024) EndedAt: 2024-04-15 19:58:32 -0400 (Mon, 15 Apr 2024) EllapsedTime: 335.0 seconds RetCode: 0 Status: OK PackageFile: netbiov_1.36.0.tar.gz PackageFileSize: 9.213 MiB