Package: netSmooth Version: 1.22.0 Command: /home/biocbuild/R/R-4.3.1/bin/R CMD build --keep-empty-dirs --no-resave-data netSmooth StartedAt: 2023-11-02 04:03:09 -0000 (Thu, 02 Nov 2023) EndedAt: 2023-11-02 04:05:40 -0000 (Thu, 02 Nov 2023) EllapsedTime: 151.2 seconds RetCode: 0 Status: OK PackageFile: netSmooth_1.22.0.tar.gz PackageFileSize: 3.113 MiB