############################################################################## ############################################################################## ### ### Running command: ### ### F:\biocbuild\bbs-3.18-bioc\R\bin\R.exe CMD INSTALL netOmics ### ############################################################################## ############################################################################## * installing to library 'F:/biocbuild/bbs-3.18-bioc/R/library' ERROR: dependency 'RandomWalkRestartMH' is not available for package 'netOmics' * removing 'F:/biocbuild/bbs-3.18-bioc/R/library/netOmics'