Package: netOmics Version: 1.8.0 Command: chmod a+r netOmics -R && F:\biocbuild\bbs-3.18-bioc\R\bin\R.exe CMD build --keep-empty-dirs --no-resave-data netOmics StartedAt: 2024-04-15 19:53:08 -0400 (Mon, 15 Apr 2024) EndedAt: 2024-04-15 19:53:11 -0400 (Mon, 15 Apr 2024) EllapsedTime: 3.0 seconds RetCode: 1 Status: ERROR PackageFile: None PackageFileSize: NA