Package: netOmics Version: 1.8.0 Command: rm -rf netOmics.buildbin-libdir && mkdir netOmics.buildbin-libdir && F:\biocbuild\bbs-3.18-bioc\R\bin\R.exe CMD INSTALL --build --library=netOmics.buildbin-libdir netOmics_1.8.0.tar.gz StartedAt: 2024-01-29 08:47:28 -0500 (Mon, 29 Jan 2024) EndedAt: 2024-01-29 08:47:54 -0500 (Mon, 29 Jan 2024) EllapsedTime: 26.4 seconds RetCode: 0 Status: OK PackageFile: netOmics_1.8.0.zip PackageFileSize: 1.692 MiB