Package: netOmics Version: 1.8.0 Command: /home/biocbuild/bbs-3.18-bioc/R/bin/R CMD check --install=check:netOmics.install-out.txt --library=/home/biocbuild/bbs-3.18-bioc/R/site-library --timings netOmics_1.8.0.tar.gz StartedAt: 2024-01-28 23:59:30 -0500 (Sun, 28 Jan 2024) EndedAt: 2024-01-29 00:04:11 -0500 (Mon, 29 Jan 2024) EllapsedTime: 280.9 seconds RetCode: 0 Status: OK CheckDir: netOmics.Rcheck Warnings: 0