Package: netOmics Version: 1.8.0 Command: /home/biocbuild/bbs-3.18-bioc/R/bin/R CMD build --keep-empty-dirs --no-resave-data netOmics StartedAt: 2024-04-15 18:12:02 -0400 (Mon, 15 Apr 2024) EndedAt: 2024-04-15 18:12:03 -0400 (Mon, 15 Apr 2024) EllapsedTime: 1.0 seconds RetCode: 1 Status: ERROR PackageFile: None PackageFileSize: NA