Package: nearBynding Version: 1.12.0 Command: F:\biocbuild\bbs-3.18-bioc\R\bin\R.exe CMD INSTALL nearBynding StartedAt: 2024-04-15 16:07:33 -0400 (Mon, 15 Apr 2024) EndedAt: 2024-04-15 16:08:27 -0400 (Mon, 15 Apr 2024) EllapsedTime: 54.1 seconds RetCode: 0 Status: OK