Package: nearBynding Version: 1.12.0 Command: rm -rf nearBynding.buildbin-libdir && mkdir nearBynding.buildbin-libdir && F:\biocbuild\bbs-3.18-bioc\R\bin\R.exe CMD INSTALL --build --library=nearBynding.buildbin-libdir nearBynding_1.12.0.tar.gz StartedAt: 2024-04-16 07:21:52 -0400 (Tue, 16 Apr 2024) EndedAt: 2024-04-16 07:22:48 -0400 (Tue, 16 Apr 2024) EllapsedTime: 56.4 seconds RetCode: 0 Status: OK PackageFile: nearBynding_1.12.0.zip PackageFileSize: 3.177 MiB