Package: ndexr Version: 1.24.0 Command: /Library/Frameworks/R.framework/Resources/bin/R CMD build --keep-empty-dirs --no-resave-data ndexr StartedAt: 2024-03-03 17:34:55 -0500 (Sun, 03 Mar 2024) EndedAt: 2024-03-03 17:35:14 -0500 (Sun, 03 Mar 2024) EllapsedTime: 19.0 seconds RetCode: 0 Status: OK PackageFile: ndexr_1.24.0.tar.gz PackageFileSize: 946.9 KiB