Package: ncRNAtools Version: 1.12.0 Command: /home/biocbuild/bbs-3.18-bioc/R/bin/R CMD build --keep-empty-dirs --no-resave-data ncRNAtools StartedAt: 2024-04-15 18:10:43 -0400 (Mon, 15 Apr 2024) EndedAt: 2024-04-15 18:11:36 -0400 (Mon, 15 Apr 2024) EllapsedTime: 53.2 seconds RetCode: 0 Status: OK PackageFile: ncRNAtools_1.12.0.tar.gz PackageFileSize: 309.1 KiB