Package: ncRNAtools Version: 1.12.0 Command: /home/biocbuild/R/R-4.3.1/bin/R CMD INSTALL ncRNAtools StartedAt: 2023-11-01 20:13:54 -0000 (Wed, 01 Nov 2023) EndedAt: 2023-11-01 20:14:10 -0000 (Wed, 01 Nov 2023) EllapsedTime: 15.9 seconds RetCode: 0 Status: OK