Package: mzR Version: 2.36.0 Command: /Library/Frameworks/R.framework/Resources/bin/R CMD check --install=check:mzR.install-out.txt --library=/Library/Frameworks/R.framework/Resources/library --no-vignettes --timings mzR_2.36.0.tar.gz StartedAt: 2024-03-03 22:07:51 -0500 (Sun, 03 Mar 2024) EndedAt: 2024-03-03 22:09:42 -0500 (Sun, 03 Mar 2024) EllapsedTime: 110.8 seconds RetCode: 0 Status: WARNINGS CheckDir: mzR.Rcheck Warnings: 2