Package: myvariant Version: 1.32.0 Command: /Library/Frameworks/R.framework/Resources/bin/R CMD check --install=check:myvariant.install-out.txt --library=/Library/Frameworks/R.framework/Resources/library --no-vignettes --timings myvariant_1.32.0.tar.gz StartedAt: 2024-04-16 06:02:59 -0400 (Tue, 16 Apr 2024) EndedAt: 2024-04-16 06:12:33 -0400 (Tue, 16 Apr 2024) EllapsedTime: 573.8 seconds RetCode: 0 Status: OK CheckDir: myvariant.Rcheck Warnings: 0