Package: muscle Version: 3.44.0 Command: rm -rf muscle.buildbin-libdir && mkdir muscle.buildbin-libdir && F:\biocbuild\bbs-3.18-bioc\R\bin\R.exe CMD INSTALL --build --library=muscle.buildbin-libdir muscle_3.44.0.tar.gz StartedAt: 2024-04-16 07:20:58 -0400 (Tue, 16 Apr 2024) EndedAt: 2024-04-16 07:22:40 -0400 (Tue, 16 Apr 2024) EllapsedTime: 102.3 seconds RetCode: 0 Status: OK PackageFile: muscle_3.44.0.zip PackageFileSize: 358.5 KiB