Package: muscle Version: 3.44.0 Command: /Library/Frameworks/R.framework/Resources/bin/R CMD check --install=check:muscle.install-out.txt --library=/Library/Frameworks/R.framework/Resources/library --no-vignettes --timings muscle_3.44.0.tar.gz StartedAt: 2024-04-16 06:01:45 -0400 (Tue, 16 Apr 2024) EndedAt: 2024-04-16 06:04:26 -0400 (Tue, 16 Apr 2024) EllapsedTime: 160.4 seconds RetCode: 0 Status: WARNINGS CheckDir: muscle.Rcheck Warnings: 2