Package: muscle Version: 3.44.0 Command: /Library/Frameworks/R.framework/Resources/bin/R CMD build --keep-empty-dirs --no-resave-data muscle StartedAt: 2024-04-15 20:22:17 -0400 (Mon, 15 Apr 2024) EndedAt: 2024-04-15 20:24:22 -0400 (Mon, 15 Apr 2024) EllapsedTime: 124.4 seconds RetCode: 0 Status: OK PackageFile: muscle_3.44.0.tar.gz PackageFileSize: 487.1 KiB