Package: muscle Version: 3.44.0 Command: /Library/Frameworks/R.framework/Resources/bin/R CMD build --keep-empty-dirs --no-resave-data muscle StartedAt: 2024-03-03 17:33:00 -0500 (Sun, 03 Mar 2024) EndedAt: 2024-03-03 17:34:16 -0500 (Sun, 03 Mar 2024) EllapsedTime: 75.4 seconds RetCode: 0 Status: OK PackageFile: muscle_3.44.0.tar.gz PackageFileSize: 486.6 KiB