Package: muscle Version: 3.44.0 Command: rm -rf muscle.buildbin-libdir && mkdir muscle.buildbin-libdir && /Users/biocbuild/BBS/utils/build-universal.sh muscle_3.44.0.tar.gz /Library/Frameworks/R.framework/Resources/bin/R muscle.buildbin-libdir StartedAt: 2024-03-04 00:53:03 -0500 (Mon, 04 Mar 2024) EndedAt: 2024-03-04 00:54:17 -0500 (Mon, 04 Mar 2024) EllapsedTime: 74.0 seconds RetCode: 0 Status: OK PackageFile: muscle_3.44.0.tgz PackageFileSize: 513.9 KiB