Package: muscle Version: 3.44.0 Command: /home/biocbuild/R/R-4.3.1/bin/R CMD check --install=check:muscle.install-out.txt --library=/home/biocbuild/R/R-4.3.1/site-library --no-vignettes --timings muscle_3.44.0.tar.gz StartedAt: 2023-11-02 12:35:04 -0000 (Thu, 02 Nov 2023) EndedAt: 2023-11-02 12:36:45 -0000 (Thu, 02 Nov 2023) EllapsedTime: 100.9 seconds RetCode: 0 Status: WARNINGS CheckDir: muscle.Rcheck Warnings: 2