Package: muscat Version: 1.16.0 Command: F:\biocbuild\bbs-3.18-bioc\R\bin\R.exe CMD check --no-multiarch --install=check:muscat.install-out.txt --library=F:\biocbuild\bbs-3.18-bioc\R\library --no-vignettes --timings muscat_1.16.0.tar.gz StartedAt: 2024-04-16 03:05:57 -0400 (Tue, 16 Apr 2024) EndedAt: 2024-04-16 03:13:51 -0400 (Tue, 16 Apr 2024) EllapsedTime: 473.2 seconds RetCode: 0 Status: OK CheckDir: muscat.Rcheck Warnings: 0