Package: muscat Version: 1.16.0 Command: /home/biocbuild/bbs-3.18-bioc/R/bin/R CMD build --keep-empty-dirs --no-resave-data muscat StartedAt: 2024-04-15 18:08:46 -0400 (Mon, 15 Apr 2024) EndedAt: 2024-04-15 18:12:33 -0400 (Mon, 15 Apr 2024) EllapsedTime: 227.2 seconds RetCode: 0 Status: OK PackageFile: muscat_1.16.0.tar.gz PackageFileSize: 5.534 MiB