Package: muscat Version: 1.16.0 Command: /Library/Frameworks/R.framework/Resources/bin/R CMD build --keep-empty-dirs --no-resave-data muscat StartedAt: 2024-03-03 17:32:58 -0500 (Sun, 03 Mar 2024) EndedAt: 2024-03-03 17:36:19 -0500 (Sun, 03 Mar 2024) EllapsedTime: 201.5 seconds RetCode: 1 Status: ERROR PackageFile: None PackageFileSize: NA