Package: multiscan Version: 1.62.0 Command: rm -rf multiscan.buildbin-libdir && mkdir multiscan.buildbin-libdir && /Users/biocbuild/BBS/utils/build-universal.sh multiscan_1.62.0.tar.gz /Library/Frameworks/R.framework/Resources/bin/R multiscan.buildbin-libdir StartedAt: 2024-04-16 12:17:57 -0400 (Tue, 16 Apr 2024) EndedAt: 2024-04-16 12:18:06 -0400 (Tue, 16 Apr 2024) EllapsedTime: 9.0 seconds RetCode: 0 Status: OK PackageFile: multiscan_1.62.0.tgz PackageFileSize: 781.2 KiB