Package: multiscan Version: 1.62.0 Command: /Library/Frameworks/R.framework/Resources/bin/R CMD check --install=check:multiscan.install-out.txt --library=/Library/Frameworks/R.framework/Resources/library --no-vignettes --timings multiscan_1.62.0.tar.gz StartedAt: 2024-03-03 22:06:15 -0500 (Sun, 03 Mar 2024) EndedAt: 2024-03-03 22:06:59 -0500 (Sun, 03 Mar 2024) EllapsedTime: 44.2 seconds RetCode: 0 Status: OK CheckDir: multiscan.Rcheck Warnings: 0