Package: multiscan Version: 1.62.0 Command: /home/biocbuild/R/R-4.3.1/bin/R CMD check --install=check:multiscan.install-out.txt --library=/home/biocbuild/R/R-4.3.1/site-library --no-vignettes --timings multiscan_1.62.0.tar.gz StartedAt: 2023-11-02 12:34:31 -0000 (Thu, 02 Nov 2023) EndedAt: 2023-11-02 12:35:04 -0000 (Thu, 02 Nov 2023) EllapsedTime: 33.1 seconds RetCode: 0 Status: OK CheckDir: multiscan.Rcheck Warnings: 0