Package: multiscan Version: 1.62.0 Command: /home/biocbuild/R/R-4.3.1/bin/R CMD build --keep-empty-dirs --no-resave-data multiscan StartedAt: 2023-11-02 03:52:15 -0000 (Thu, 02 Nov 2023) EndedAt: 2023-11-02 03:52:23 -0000 (Thu, 02 Nov 2023) EllapsedTime: 8.0 seconds RetCode: 0 Status: OK PackageFile: multiscan_1.62.0.tar.gz PackageFileSize: 735.3 KiB