Package: multicrispr Version: 1.12.9 Command: /home/biocbuild/bbs-3.18-bioc/R/bin/R CMD INSTALL multicrispr StartedAt: 2024-04-15 15:28:51 -0400 (Mon, 15 Apr 2024) EndedAt: 2024-04-15 15:29:27 -0400 (Mon, 15 Apr 2024) EllapsedTime: 35.3 seconds RetCode: 0 Status: OK