Package: multicrispr Version: 1.12.9 Command: /Library/Frameworks/R.framework/Resources/bin/R CMD check --install=check:multicrispr.install-out.txt --library=/Library/Frameworks/R.framework/Resources/library --no-vignettes --timings multicrispr_1.12.9.tar.gz StartedAt: 2024-04-16 05:57:20 -0400 (Tue, 16 Apr 2024) EndedAt: 2024-04-16 06:10:39 -0400 (Tue, 16 Apr 2024) EllapsedTime: 799.0 seconds RetCode: 0 Status: OK CheckDir: multicrispr.Rcheck Warnings: 0