Package: multicrispr Version: 1.12.9 Command: rm -rf multicrispr.buildbin-libdir && mkdir multicrispr.buildbin-libdir && /Users/biocbuild/BBS/utils/build-universal.sh multicrispr_1.12.9.tar.gz /Library/Frameworks/R.framework/Resources/bin/R multicrispr.buildbin-libdir StartedAt: 2024-04-16 12:17:40 -0400 (Tue, 16 Apr 2024) EndedAt: 2024-04-16 12:18:58 -0400 (Tue, 16 Apr 2024) EllapsedTime: 78.4 seconds RetCode: 0 Status: OK PackageFile: multicrispr_1.12.9.tgz PackageFileSize: 2.743 MiB