Package: multicrispr Version: 1.12.0 Command: /home/biocbuild/R/R-4.3.1/bin/R CMD build --keep-empty-dirs --no-resave-data multicrispr StartedAt: 2023-11-02 03:50:54 -0000 (Thu, 02 Nov 2023) EndedAt: 2023-11-02 03:52:47 -0000 (Thu, 02 Nov 2023) EllapsedTime: 112.2 seconds RetCode: 0 Status: OK PackageFile: multicrispr_1.12.0.tar.gz PackageFileSize: 2.542 MiB