############################################################################## ############################################################################## ### ### Running command: ### ### /home/biocbuild/bbs-3.18-bioc/R/bin/R CMD check --install=check:multiWGCNA.install-out.txt --library=/home/biocbuild/bbs-3.18-bioc/R/site-library --timings multiWGCNA_1.0.0.tar.gz ### ############################################################################## ############################################################################## * using log directory ‘/home/biocbuild/bbs-3.18-bioc/meat/multiWGCNA.Rcheck’ * using R version 4.3.3 (2024-02-29) * using platform: x86_64-pc-linux-gnu (64-bit) * R was compiled by gcc (Ubuntu 11.4.0-1ubuntu1~22.04) 11.4.0 GNU Fortran (Ubuntu 11.4.0-1ubuntu1~22.04) 11.4.0 * running under: Ubuntu 22.04.4 LTS * using session charset: UTF-8 * checking for file ‘multiWGCNA/DESCRIPTION’ ... OK * checking extension type ... Package * this is package ‘multiWGCNA’ version ‘1.0.0’ * package encoding: UTF-8 * checking package namespace information ... OK * checking package dependencies ... OK * checking if this is a source package ... OK * checking if there is a namespace ... OK * checking for hidden files and directories ... OK * checking for portable file names ... OK * checking for sufficient/correct file permissions ... OK * checking whether package ‘multiWGCNA’ can be installed ... OK * checking installed package size ... OK * checking package directory ... OK * checking ‘build’ directory ... OK * checking DESCRIPTION meta-information ... OK * checking top-level files ... OK * checking for left-over files ... OK * checking index information ... OK * checking package subdirectories ... OK * checking R files for non-ASCII characters ... OK * checking R files for syntax errors ... OK * checking whether the package can be loaded ... OK * checking whether the package can be loaded with stated dependencies ... OK * checking whether the package can be unloaded cleanly ... OK * checking whether the namespace can be loaded with stated dependencies ... OK * checking whether the namespace can be unloaded cleanly ... OK * checking loading without being on the library search path ... OK * checking dependencies in R code ... OK * checking S3 generic/method consistency ... OK * checking replacement functions ... OK * checking foreign function calls ... OK * checking R code for possible problems ... NOTE bidirectionalBestMatches: no visible binding for global variable ‘mod1’ bidirectionalBestMatches: no visible binding for global variable ‘mod2’ bidirectionalBestMatches: no visible binding for global variable ‘overlap’ coexpressionLineGraph: no visible binding for global variable ‘Var1’ coexpressionLineGraph: no visible binding for global variable ‘value’ coexpressionLineGraph: no visible binding for global variable ‘Var2’ computeOverlapsFromWGCNA: no visible binding for global variable ‘mod1’ computeOverlapsFromWGCNA: no visible binding for global variable ‘mod2’ continuousFlowPlot: no visible global function definition for ‘ulist’ continuousFlowPlot: no visible binding for global variable ‘uniqueSortedData’ continuousFlowPlot: no visible binding for global variable ‘stratum’ continuousFlowPlot: no visible global function definition for ‘error’ correlationComparisonBoxplot: no visible binding for global variable ‘Status’ correlationComparisonBoxplot: no visible binding for global variable ‘Correlation’ correlationComparisonHeatmaps: no visible binding for global variable ‘Var1’ correlationComparisonHeatmaps: no visible binding for global variable ‘Var2’ correlationComparisonHeatmaps: no visible binding for global variable ‘value’ diffCoexpression: no visible binding for global variable ‘layout_with_fr’ diffCoexpression: no visible binding for global variable ‘p.adj’ diffModuleExpression: no visible binding for global variable ‘Sample’ drawNetwork: no visible binding for global variable ‘layout_with_fr’ expressionHeatmap: no visible binding for global variable ‘Sample’ expressionHeatmap: no visible binding for global variable ‘Gene’ expressionHeatmap: no visible binding for global variable ‘Zscore’ findOutlierModules: no visible global function definition for ‘zScoreMatrix’ moduleComparisonPlot: no visible binding for global variable ‘overlap’ moduleComparisonPlot: no visible binding for global variable ‘mod1’ moduleComparisonPlot: no visible binding for global variable ‘mod2’ moduleComparisonPlot: no visible binding for global variable ‘p.adj’ moduleComparisonPlot: no visible binding for global variable ‘stratum’ moduleExpressionPlot: no visible binding for global variable ‘Sample’ moduleExpressionPlot: no visible binding for global variable ‘Expression’ moduleToModuleHeatmap: no visible binding for global variable ‘mod1’ moduleToModuleHeatmap: no visible binding for global variable ‘mod2’ moduleToModuleHeatmap: no visible binding for global variable ‘p.adj’ moduleToModuleHeatmap: no visible binding for global variable ‘overlap’ preservationComparisonPlot: no visible binding for global variable ‘log10Pvalue’ preservationComparisonPlot: no visible binding for global variable ‘Zsum’ preservationComparisonPlot: no visible binding for global variable ‘trait’ preservationComparisonPlot: no visible binding for global variable ‘Module’ topNGenes: no visible binding for global variable ‘kWithin’ Undefined global functions or variables: Correlation Expression Gene Module Sample Status Var1 Var2 Zscore Zsum error kWithin layout_with_fr log10Pvalue mod1 mod2 overlap p.adj stratum trait ulist uniqueSortedData value zScoreMatrix * checking Rd files ... OK * checking Rd metadata ... OK * checking Rd cross-references ... OK * checking for missing documentation entries ... OK * checking for code/documentation mismatches ... OK * checking Rd \usage sections ... OK * checking Rd contents ... OK * checking for unstated dependencies in examples ... OK * checking files in ‘vignettes’ ... OK * checking examples ... OK Examples with CPU (user + system) or elapsed time > 5s user system elapsed preservationComparisonPlot 63.801 3.183 67.269 preservationComparisons 57.790 3.804 61.932 constructNetworks 36.261 1.428 37.955 GetDatExpr 17.462 1.579 20.175 moduleComparisonPlot 16.088 0.890 17.263 drawMultiWGCNAnetwork 9.281 0.627 10.241 iterate 8.655 0.912 9.853 runDME 8.543 0.624 9.566 overlapComparisons 7.064 0.637 7.954 diffModuleExpression 4.558 0.148 5.043 * checking for unstated dependencies in ‘tests’ ... OK * checking tests ... Running ‘testthat.R’ OK * checking for unstated dependencies in vignettes ... OK * checking package vignettes in ‘inst/doc’ ... OK * checking running R code from vignettes ... ‘astrocyte_map_v2.Rmd’ using ‘UTF-8’... OK ‘autism_full_workflow.Rmd’ using ‘UTF-8’... OK OK * checking re-building of vignette outputs ... OK * checking PDF version of manual ... OK * DONE Status: 1 NOTE See ‘/home/biocbuild/bbs-3.18-bioc/meat/multiWGCNA.Rcheck/00check.log’ for details.