Package: multiWGCNA Version: 1.0.0 Command: /Library/Frameworks/R.framework/Resources/bin/R CMD INSTALL multiWGCNA StartedAt: 2024-04-15 16:11:32 -0400 (Mon, 15 Apr 2024) EndedAt: 2024-04-15 16:12:44 -0400 (Mon, 15 Apr 2024) EllapsedTime: 72.7 seconds RetCode: 0 Status: OK