Package: multiWGCNA Version: 1.0.0 Command: /Library/Frameworks/R.framework/Resources/bin/R CMD check --install=check:multiWGCNA.install-out.txt --library=/Library/Frameworks/R.framework/Resources/library --no-vignettes --timings multiWGCNA_1.0.0.tar.gz StartedAt: 2024-04-16 06:00:38 -0400 (Tue, 16 Apr 2024) EndedAt: 2024-04-16 06:19:06 -0400 (Tue, 16 Apr 2024) EllapsedTime: 1108.2 seconds RetCode: 0 Status: OK CheckDir: multiWGCNA.Rcheck Warnings: 0